BEGIN:VCALENDAR
VERSION:2.0
PRODID:https://www.pleinfeld.de/
X-PUBLISHED-TTL:P1D
BEGIN:VEVENT
UID:69ec9a2503e56
DTSTART:20260507T123000Z
SEQUENCE:0
TRANSP:OPAQUE
DTEND:20260507T140000Z
URL:https://www.pleinfeld.de/veranstaltungen/tanzen_ab_der_lebensmitte-7168
 05-12627171/
LOCATION:Bürger- und Mehrgenerationenhaus Pleinfeld - Pleinfeld
SUMMARY:Tanzen ab der Lebensmitte
DESCRIPTION:Mit Freude dabei...
DTSTAMP:20260425T124037Z
END:VEVENT
END:VCALENDAR