BEGIN:VCALENDAR
VERSION:2.0
PRODID:https://www.pleinfeld.de/
X-PUBLISHED-TTL:P1D
BEGIN:VEVENT
UID:69e8004560bea
DTSTART:20261129T083000Z
SEQUENCE:0
TRANSP:OPAQUE
DTEND:20261129T113000Z
URL:https://www.pleinfeld.de/veranstaltungen/schiffsbrunch-691201-12609621
LOCATION:MS Brombachsee - Pleinfeld
SUMMARY:Schiffsbrunch
DTSTAMP:20260422T005501Z
END:VEVENT
END:VCALENDAR