BEGIN:VCALENDAR
VERSION:2.0
PRODID:https://www.pleinfeld.de/
X-PUBLISHED-TTL:P1D
BEGIN:VEVENT
UID:69e8004a624d6
DTSTART:20261128T083000Z
SEQUENCE:0
TRANSP:OPAQUE
DTEND:20261128T113000Z
URL:https://www.pleinfeld.de/veranstaltungen/schiffsbrunch-691201-12609619
LOCATION:MS Brombachsee - Pleinfeld
SUMMARY:Schiffsbrunch
DTSTAMP:20260422T005506Z
END:VEVENT
END:VCALENDAR