BEGIN:VCALENDAR
VERSION:2.0
PRODID:https://www.pleinfeld.de/
X-PUBLISHED-TTL:P1D
BEGIN:VEVENT
UID:69e5215d27122
DTSTART:20260421T080000Z
SEQUENCE:0
TRANSP:OPAQUE
DTEND:20260421T100000Z
URL:https://www.pleinfeld.de/veranstaltungen/schafkopfen-offener_treff-5495
 27/
LOCATION:Bürgerhaus Pleinfeld - Pleinfeld
SUMMARY:Schafkopfen - offener Treff
DESCRIPTION:Anfänger und geübtere Spieler
DTSTAMP:20260419T203925Z
END:VEVENT
END:VCALENDAR