BEGIN:VCALENDAR
VERSION:2.0
PRODID:https://www.pleinfeld.de/
X-PUBLISHED-TTL:P1D
BEGIN:VEVENT
UID:69e9e6ec3dbea
DTSTART:20260923T103000Z
SEQUENCE:0
TRANSP:OPAQUE
DTEND:20260923T134500Z
URL:https://www.pleinfeld.de/veranstaltungen/schaeufele-tradition_trifft_mo
 -692019-12609977/
LOCATION:MS Brombachsee - Pleinfeld
SUMMARY:Schäufele-Tradition trifft Moderne!
DTSTAMP:20260423T113124Z
END:VEVENT
END:VCALENDAR