BEGIN:VCALENDAR
VERSION:2.0
PRODID:https://www.pleinfeld.de/
X-PUBLISHED-TTL:P1D
BEGIN:VEVENT
UID:69ed2afba5f89
DTSTART:20260909T063000Z
SEQUENCE:0
TRANSP:OPAQUE
DTEND:20260909T103000Z
URL:https://www.pleinfeld.de/veranstaltungen/pleinfelder_wochenmarkt-719335
 -12628471/
LOCATION:Parkplatz an der Brückenstraße - Pleinfeld
SUMMARY:Pleinfelder Wochenmarkt
DTSTAMP:20260425T225835Z
END:VEVENT
END:VCALENDAR