BEGIN:VCALENDAR
VERSION:2.0
PRODID:https://www.pleinfeld.de/
X-PUBLISHED-TTL:P1D
BEGIN:VEVENT
UID:69ed19b5bf22f
DTSTART:20260603T063000Z
SEQUENCE:0
TRANSP:OPAQUE
DTEND:20260603T103000Z
URL:https://www.pleinfeld.de/veranstaltungen/pleinfelder_wochenmarkt-719335
 -12628443/
LOCATION:Parkplatz an der Brückenstraße - Pleinfeld
SUMMARY:Pleinfelder Wochenmarkt
DTSTAMP:20260425T214453Z
END:VEVENT
END:VCALENDAR