BEGIN:VCALENDAR
VERSION:2.0
PRODID:https://www.pleinfeld.de/
X-PUBLISHED-TTL:P1D
BEGIN:VEVENT
UID:69ecffc738f99
DTSTART:20260731T163000Z
SEQUENCE:0
TRANSP:OPAQUE
DTEND:20260731T173000Z
URL:https://www.pleinfeld.de/veranstaltungen/pilates_fuer_fortgeschrittene-
 548673-12626335/
LOCATION:Bürger- und Mehrgenerationenhaus Pleinfeld - Pleinfeld
SUMMARY:Pilates für Fortgeschrittene
DESCRIPTION:Voraussetzung sind Grundkenntnisse aus Basis und Aufbaukurs.
DTSTAMP:20260425T195415Z
END:VEVENT
END:VCALENDAR