BEGIN:VCALENDAR
VERSION:2.0
PRODID:https://www.pleinfeld.de/
X-PUBLISHED-TTL:P1D
BEGIN:VEVENT
UID:69eb70e22964a
DTSTART:20260522T063000Z
SEQUENCE:0
TRANSP:OPAQUE
DTEND:20260522T103000Z
URL:https://www.pleinfeld.de/veranstaltungen/offener_treffpunkt_im_buerger-
 688899-12606503/
LOCATION:Bürger- und Mehrgenerationenhaus Pleinfeld - Pleinfeld
SUMMARY:Offener Treffpunkt im Bürger-Cafe´ - gemeinsam statt einsam -
DESCRIPTION:Lesen\, begegnen\, miteinander ins Gespräch kommen
DTSTAMP:20260424T153218Z
END:VEVENT
END:VCALENDAR