BEGIN:VCALENDAR
VERSION:2.0
PRODID:https://www.pleinfeld.de/
X-PUBLISHED-TTL:P1D
BEGIN:VEVENT
UID:69e5029f981e9
DTSTART:20260829T130000Z
SEQUENCE:0
TRANSP:OPAQUE
DTEND:20260829T150000Z
URL:https://www.pleinfeld.de/veranstaltungen/museumswochenende-736885-12639
 681/
LOCATION:Heimat- und Brauereimuseum - Pleinfeld
SUMMARY:Museumswochenende
DTSTAMP:20260419T182815Z
END:VEVENT
END:VCALENDAR