BEGIN:VCALENDAR
VERSION:2.0
PRODID:https://www.pleinfeld.de/
X-PUBLISHED-TTL:P1D
BEGIN:VEVENT
UID:69ed56f8a3a80
DTSTART:20260709T063000Z
SEQUENCE:0
TRANSP:OPAQUE
DTEND:20260709T071500Z
URL:https://www.pleinfeld.de/veranstaltungen/lungensport-kostenfrei-710783-
 12621549/
LOCATION:Bürger- und Mehrgenerationenhaus Pleinfeld - Pleinfeld
SUMMARY:Lungensport - kostenfrei -
DESCRIPTION:Auf ärztliche Verordnung
DTSTAMP:20260426T020616Z
END:VEVENT
END:VCALENDAR