BEGIN:VCALENDAR
VERSION:2.0
PRODID:https://www.pleinfeld.de/
X-PUBLISHED-TTL:P1D
BEGIN:VEVENT
UID:69e4e75c6fde7
DTSTART:20260607T073000Z
SEQUENCE:0
TRANSP:OPAQUE
DTEND:20260607T150000Z
URL:https://www.pleinfeld.de/veranstaltungen/kunst-_krempelmarkt-630749/
LOCATION:Marktplatz - Pleinfeld
SUMMARY:Kunst- & Krempelmarkt
DTSTAMP:20260419T163156Z
END:VEVENT
END:VCALENDAR