BEGIN:VCALENDAR
VERSION:2.0
PRODID:https://www.pleinfeld.de/
X-PUBLISHED-TTL:P1D
BEGIN:VEVENT
UID:69eaa01c4fa3e
DTSTART:20260703T153500Z
SEQUENCE:0
TRANSP:OPAQUE
DTEND:20260703T155000Z
URL:https://www.pleinfeld.de/veranstaltungen/gitarrenkurse_fuer_erwachsene-
 621417-12627311
LOCATION:Bürger- und Mehrgenerationenhaus Pleinfeld - Pleinfeld
SUMMARY:Gitarrenkurse für Erwachsene und Jugendliche ab 14 Jahre
DESCRIPTION:Nach Noten und Akkorden\, Stufe 3\, 7 und 8
DTSTAMP:20260424T004132Z
END:VEVENT
END:VCALENDAR