BEGIN:VCALENDAR
VERSION:2.0
PRODID:https://www.pleinfeld.de/
X-PUBLISHED-TTL:P1D
BEGIN:VEVENT
UID:69ed16204672f
DTSTART:20260608T070000Z
SEQUENCE:0
TRANSP:OPAQUE
DTEND:20260608T080000Z
URL:https://www.pleinfeld.de/veranstaltungen/fit_im_alltag-548601-12621243/
LOCATION:Bürger- und Mehrgenerationenhaus Pleinfeld - Pleinfeld
SUMMARY:Fit im Alltag
DESCRIPTION:Fit im Alltag für jedes Alter
DTSTAMP:20260425T212936Z
END:VEVENT
END:VCALENDAR