BEGIN:VCALENDAR
VERSION:2.0
PRODID:https://www.pleinfeld.de/
X-PUBLISHED-TTL:P1D
BEGIN:VEVENT
UID:69eb529718126
DTSTART:20260424T180000Z
SEQUENCE:0
TRANSP:OPAQUE
DTEND:20260424T180000Z
URL:https://www.pleinfeld.de/veranstaltungen/beobachtungsabende_messier-tou
 -701971/
LOCATION:Sternwarte - Pleinfeld
SUMMARY:Beobachtungsabende: Messier-Tour
DTSTAMP:20260424T132303Z
END:VEVENT
END:VCALENDAR