BEGIN:VCALENDAR
VERSION:2.0
PRODID:https://www.pleinfeld.de/
X-PUBLISHED-TTL:P1D
BEGIN:VEVENT
UID:69ea880c681cb
DTSTART:20260819T170000Z
SEQUENCE:0
TRANSP:OPAQUE
DTEND:20260819T180000Z
URL:https://www.pleinfeld.de/veranstaltungen/abendeinstimmung_im_schlossgar
 -808923-12683273/
LOCATION:Schlossgarten am Bürgerhaus - Pleinfeld
SUMMARY:Abendeinstimmung im Schlossgarten heute: Oh Happy Day\" - Gospel mu
 ss aus dem Herzen klingen - Rew. James A. Wilson
DESCRIPTION:Vorgetragen vom Wilson Gospelchor
DTSTAMP:20260423T225852Z
END:VEVENT
END:VCALENDAR