BEGIN:VCALENDAR
VERSION:2.0
PRODID:https://www.pleinfeld.de/
X-PUBLISHED-TTL:P1D
BEGIN:VEVENT
UID:69ea8811594a9
DTSTART:20260826T170000Z
SEQUENCE:0
TRANSP:OPAQUE
DTEND:20260826T180000Z
URL:https://www.pleinfeld.de/veranstaltungen/abendeinstimmung_im_schlossgar
 -808913-12683263/
LOCATION:Schlossgarten am Bürgerhaus - Pleinfeld
SUMMARY:Abendeinstimmung im Schlossgarten heute: \"Live Free\"
DESCRIPTION:Sänger-Songwriter Konzert mit eigenen Songs von und mit  Micha
 el Lane
DTSTAMP:20260423T225857Z
END:VEVENT
END:VCALENDAR