BEGIN:VCALENDAR
VERSION:2.0
PRODID:https://www.pleinfeld.de/
X-PUBLISHED-TTL:P1D
BEGIN:VEVENT
UID:69ea880758528
DTSTART:20260902T170000Z
SEQUENCE:0
TRANSP:OPAQUE
DTEND:20260902T180000Z
URL:https://www.pleinfeld.de/veranstaltungen/abendeinstimmung_im_schlossgar
 -808911-12683261/
LOCATION:Schlossgarten am Bürgerhaus - Pleinfeld
SUMMARY:Abendeinstimmung im Schlossgarten heute: \"Zauberei hoch drei\"
DESCRIPTION:Das Zauberduo Rita & Sabine gemeinsam mit Jörg Spengler verspr
 icht magische Momente
DTSTAMP:20260423T225847Z
END:VEVENT
END:VCALENDAR