BEGIN:VCALENDAR
VERSION:2.0
PRODID:https://www.pleinfeld.de/
X-PUBLISHED-TTL:P1D
BEGIN:VEVENT
UID:69ecd724e9491
DTSTART:20260805T170000Z
SEQUENCE:0
TRANSP:OPAQUE
DTEND:20260805T180000Z
URL:https://www.pleinfeld.de/veranstaltungen/abendeinstimmung_im_schlossgar
 -807291/
LOCATION:Schlossgarten am Bürgerhaus - Pleinfeld
SUMMARY:Abendeinstimmung im Schlossgarten heute: \"Saitenklag im Schlossgar
 ten - Volksmusik & mehr\"
DESCRIPTION:Der Zither-Club Solnhofen nimmt Sie mit auf einer Reise durch d
 ie Welt der Volksmusik und darüber hinaus
DTSTAMP:20260425T170052Z
END:VEVENT
END:VCALENDAR